BEGIN:VCALENDAR
VERSION:2.0
PRODID:-//https://www.takethedate.it///NONSGML kigkonsult.se iCalcreator 2.10.15//
METHOD:PUBLISH
BEGIN:VEVENT
UID:20260419T184612CEST-9032vOX53i@https://www.takethedate.it/
DTSTAMP:20260419T164612Z
DESCRIPTION:Giovedì 16 aprileore 10.30-12.00\nETS sotto pressione: Il prezz
 o del carbonio nel dibattito europeo\n\nL’ETS è uno degli strumenti più im
 portanti della politica climatica europea\, ma anche uno dei più discussi.
  Pensato per accompagnare la riduzione delle emissioni attraverso un mecca
 nismo di mercato\, oggi è al centro di un dibattito sempre più acceso\, tr
 a critiche politiche\, preoccupazioni economiche e interrogativi sulla sua
  efficacia. Questo incontro vuole offrire una chiave di lettura chiara e a
 ccessibile per comprendere che cos’è l’ETS\, come funziona e perché il suo
  ruolo sia oggi così controverso.\n https://www.takethedate.it/archivio/Ev
 enti/51964-ets-sotto-pressione-il-prezzo-del-carbonio-nel-dibattito-europe
 o.html
DTSTART:20260416T083000Z
DTEND:20260416T100000Z
LOCATION:Padova (Padova)
SUMMARY:ETS sotto pressione: il prezzo del carbonio nel dibattito europeo 
URL:https://www.takethedate.it/archivio/Eventi/51964-ets-sotto-pressione-il
 -prezzo-del-carbonio-nel-dibattito-europeo.html
END:VEVENT
END:VCALENDAR
