BEGIN:VCALENDAR
VERSION:2.0
PRODID:-//https://www.takethedate.it///NONSGML kigkonsult.se iCalcreator 2.10.15//
METHOD:PUBLISH
BEGIN:VEVENT
UID:20260419T184345CEST-5003LODh8n@https://www.takethedate.it/
DTSTAMP:20260419T164345Z
DESCRIPTION:“L’eco del futuro. Un nuovo patto sociale per pensioni\, salute
 \, aree interne e invecchiamento attivo” è lo slogan dell’Assemblea eletti
 va di Anp\, l’Associazione nazionale pensionati di Cia-Agricoltori Italian
 i\, in programma a Roma il 9 e 10 aprile\, presso l’Auditorium Giuseppe Av
 olio.\nSi parte giovedì 9\, alle ore 14.30\, con i saluti del vicepresiden
 te vicario Anp\, Franco Fiori\, e del direttore nazionale Cia\, Maurizio S
 caccia. A seguire la tavola rotonda\, momento centrale di confronto con is
 tituzioni e parti sociali\, dove interverranno: Alessandro Del Carlo\, pre
 sidente nazionale Anp\; Stefano Fantacone\, direttore CER-Centro Europa Ri
 cerche\; Tania Scacchetti\, segretaria generale Spi-Cgil\; Walter Rizzetto
 \, presidente della Commissione Lavoro della Camera\; Ylenia Zambito\, com
 ponente della Commissione Affari sociali del Senato\; Annalisa Mandorino\,
  segretaria generale Cittadinanzattiva\; Cristiano Fini\, presidente nazio
 nale Cia. Modera Annalisa Nicoletti\, responsabile Comunicazione Cia.\nPro
 prio la tavola rotonda chiuderà la sessione pubblica e aprirà quella priva
 ta\, dalle 17.30\, riservata ai delegati.\nVenerdì 10 aprile\, dalle ore 9
 .15\, i lavori riprenderanno con il dibattito e si concluderanno con la pr
 oclamazione del nuovo presidente nazionale di Anp-Cia.\nPer i giornalisti\
 , è necessario l'accredito stampa https://www.takethedate.it/archivio/Even
 ti/51937-assemblea-elettiva-anp-cia.html
DTSTART:20260409T123000Z
DTEND:20260409T153000Z
LOCATION:Roma (Roma)
SUMMARY:Assemblea elettiva Anp-Cia
URL:https://www.takethedate.it/archivio/Eventi/51937-assemblea-elettiva-anp
 -cia.html
END:VEVENT
END:VCALENDAR
