BEGIN:VCALENDAR
VERSION:2.0
PRODID:-//https://www.takethedate.it///NONSGML kigkonsult.se iCalcreator 2.10.15//
METHOD:PUBLISH
BEGIN:VEVENT
UID:20260419T200506CEST-1905fuue5l@https://www.takethedate.it/
DTSTAMP:20260419T180506Z
DESCRIPTION:L’IDC FutureTech Summit è l’evento di riferimento per CTO\, Res
 ponsabili delle architetture IT e leader tecnologici che stanno plasmando 
 la prossima era dell’IT aziendale. L’AI non è più un’iniziativa collateral
 e: sta diventando il fulcro della crescita del business. Oltre la metà dei
  CXO prevede un aumento dei ricavi grazie all’AI\, e il 77% dei CIO indica
  l’implementazione e la scalabilità dell’intelligenza artificiale come pri
 orità assoluta per il 2026. Per avere successo\, le organizzazioni devono 
 ricalibrare non solo gli strumenti\, ma anche la mentalità\, l’architettur
 a e la leadership.\nQuesta svolta decisiva porta le imprese oltre i proget
 ti pilota isolati verso implementazioni su scala\, richiedendo dati\, sist
 emi e persone pronti a supportare operazioni autonome e guidate dall’AI.\n
 Le ricerche IDC mostrano che i budget IT per AI\, Cloud ed Edge saliranno 
 al 15-30% entro il 2027\, segnando un impegno a livello europeo per modern
 izzare le fondamenta tecnologiche e accelerare l’innovazione.\n  https://w
 ww.takethedate.it/archivio/Eventi/51935-futuretech-summit-architecting-the
 -intelligent-enterprise.html
DTSTART:20260416T070000Z
DTEND:20260416T113000Z
LOCATION:Milano (Milano)
SUMMARY:FutureTech Summit: architecting the Intelligent Enterprise
URL:https://www.takethedate.it/archivio/Eventi/51935-futuretech-summit-arch
 itecting-the-intelligent-enterprise.html
END:VEVENT
END:VCALENDAR
