BEGIN:VCALENDAR
VERSION:2.0
PRODID:-//https://www.takethedate.it///NONSGML kigkonsult.se iCalcreator 2.10.15//
METHOD:PUBLISH
BEGIN:VEVENT
UID:20260419T184750CEST-6717puikFb@https://www.takethedate.it/
DTSTAMP:20260419T164750Z
DESCRIPTION: https://www.takethedate.it/archivio/Eventi/51893-trattamento-d
 i-fine-servizio-lora-della-verita-conferenza-stampa-di-alfonso-colucci.htm
 l
DTSTART:20260408T110000Z
DTEND:20260408T120000Z
LOCATION:Roma (Roma)
SUMMARY:Trattamento di fine servizio: l'ora della verità - conferenza stamp
 a di Alfonso Colucci
URL:https://www.takethedate.it/archivio/Eventi/51893-trattamento-di-fine-se
 rvizio-lora-della-verita-conferenza-stampa-di-alfonso-colucci.html
END:VEVENT
END:VCALENDAR
