BEGIN:VCALENDAR
VERSION:2.0
PRODID:-//https://www.takethedate.it///NONSGML kigkonsult.se iCalcreator 2.10.15//
METHOD:PUBLISH
BEGIN:VEVENT
UID:20260419T184740CEST-3741cKdS6I@https://www.takethedate.it/
DTSTAMP:20260419T164740Z
DESCRIPTION:Alle ore 14.40\, presso la Sala del Refettorio di Palazzo San M
 acuto si svolge il convegno 'Il caso dei riders tra direttiva europea\, no
 rme nazionali e rapporti reali - Il caporalato nel capitalismo delle piatt
 aforme - Verso gli stati generali della salute e sicurezza sul lavoro'. ht
 tps://www.takethedate.it/archivio/Eventi/51725-il-caso-dei-riders-tra-dire
 ttiva-europea-norme-nazionali-e-rapporti-reali.html
DTSTART:20260402T124000Z
DTEND:20260402T143000Z
LOCATION:Roma (Roma)
SUMMARY:Il caso dei riders tra direttiva europea\, norme nazionali e rappor
 ti reali
URL:https://www.takethedate.it/archivio/Eventi/51725-il-caso-dei-riders-tra
 -direttiva-europea-norme-nazionali-e-rapporti-reali.html
END:VEVENT
END:VCALENDAR
