BEGIN:VCALENDAR
VERSION:2.0
PRODID:-//https://www.takethedate.it///NONSGML kigkonsult.se iCalcreator 2.10.15//
METHOD:PUBLISH
BEGIN:VEVENT
UID:20260419T184608CEST-4470aUVc5x@https://www.takethedate.it/
DTSTAMP:20260419T164608Z
DESCRIPTION:Oltre le pensioni. Le sfide del Welfare di domani\nEvento organ
 izzato da Orizzonte Italia\, SWG e Kratesis dedicato al futuro del sistema
  di welfare italiano. Gabriele Fava\, Presidente dell'INPS\, interviene co
 n Roberto Arditti per discutere le sfide che vanno oltre il tema pensionis
 tico — dalla sostenibilità sociale alle nuove forme di protezione. Parteci
 pano Autostrade per l'Italia\, Snam e ION Group.\nRegistrati all’evento: h
 ttps://forms.gle/aisMrdvNVVzoiHju7 https://www.takethedate.it/archivio/Eve
 nti/51531-oltre-le-pensioni-le-sfide-del-welfare-di-domani.html
DTSTART:20260401T160000Z
DTEND:20260401T180000Z
LOCATION:Roma (Roma)
SUMMARY:Oltre le pensioni: le sfide del Welfare di domani
URL:https://www.takethedate.it/archivio/Eventi/51531-oltre-le-pensioni-le-s
 fide-del-welfare-di-domani.html
END:VEVENT
END:VCALENDAR
