BEGIN:VCALENDAR
VERSION:2.0
PRODID:-//https://www.takethedate.it///NONSGML kigkonsult.se iCalcreator 2.10.15//
METHOD:PUBLISH
BEGIN:VEVENT
UID:20260419T215724CEST-2743luHgAj@https://www.takethedate.it/
DTSTAMP:20260419T195724Z
DESCRIPTION:Presiede Stefano Ceccanti Sapienza Università di Roma\nRelazion
 a Salvatore Curreri Università degli Studi di Enna Kore\nIntervengono Paol
 o Bonini Università Pegaso Rosa Iannaccone Università degli Studi di Sassa
 ri\n26 marzo 2026 ore 15:00\nSala Studio\, Il piano dell'Edificio di Scien
 ze Politiche Sapienza Università di Roma https://www.takethedate.it/archiv
 io/Eventi/51523-i-gruppi-parlamentari-al-parlamento-europeo.html
DTSTART:20260326T140000Z
DTEND:20260326T170000Z
LOCATION:Roma (Roma)
SUMMARY:I gruppi parlamentari al parlamento europeo
URL:https://www.takethedate.it/archivio/Eventi/51523-i-gruppi-parlamentari-
 al-parlamento-europeo.html
END:VEVENT
END:VCALENDAR
