BEGIN:VCALENDAR
VERSION:2.0
PRODID:-//https://www.takethedate.it///NONSGML kigkonsult.se iCalcreator 2.10.15//
METHOD:PUBLISH
BEGIN:VEVENT
UID:20260419T184629CEST-4571hsemZA@https://www.takethedate.it/
DTSTAMP:20260419T164629Z
DESCRIPTION:Cerimonia Inaugurale del 273° Anno Accademico dei Georgofili. D
 opo il saluto delle Autorità e la relazione del Presidente\, la prolusione
  inaugurale sarà tenuta da Valdo Spini\, Accademico Onorario e già Ministr
 o dell’Ambiente\, sul tema La questione ambientale. https://www.takethedat
 e.it/archivio/Eventi/51464-inaugurazione-anno-accademico-dei-georgofili.ht
 ml
DTSTART:20260417T090000Z
DTEND:20260417T120000Z
LOCATION:evento online  ()
SUMMARY:Inaugurazione anno accademico dei Georgofili
URL:https://www.takethedate.it/archivio/Eventi/51464-inaugurazione-anno-acc
 ademico-dei-georgofili.html
END:VEVENT
END:VCALENDAR
