BEGIN:VCALENDAR
VERSION:2.0
PRODID:-//https://www.takethedate.it///NONSGML kigkonsult.se iCalcreator 2.10.15//
METHOD:PUBLISH
BEGIN:VEVENT
UID:20260420T030209CEST-3916XdkRU0@https://www.takethedate.it/
DTSTAMP:20260420T010209Z
DESCRIPTION:Segnaliamo che Elettricità Futura organizza in partnership con 
 CESI\, il Technology Watch “Accumuli e flessibilità per un sistema elettri
 co più competitivo e rinnovabile”\, in modalità webinar il 15 aprile dalle
  ore 11:00 alle 12.30.La crescita delle rinnovabili e l’aumento della doma
 nda di flessibilità stanno trasformando il sistema elettrico italiano. I r
 isultati della prima asta MACSE dimostrano la maturità e la competitività 
 raggiunta dal mercato dei BESS utility?scale. Parallelamente\, l’evoluzion
 e del quadro regolatorio con strumenti come il FER Z rafforza il ruolo del
 lo storage nell’abilitare una maggiore penetrazione delle FER. Integrare e
 fficacemente gli accumuli nel sistema richiede però un approccio multidisc
 iplinare: occorrono analisi di rete\, modellazione dei servizi di flessibi
 lità\, verifiche prestazionali\, criteri di disponibilità e interoperabili
 tà\, oltre alla valutazione degli impatti su adeguatezza e sicurezza. L’It
 alia è all’avanguardia nella resilienza\, innovazione e digitalizzazione d
 elle reti elettriche nonché per gli stoccaggi e la flessibilità. Sarà nece
 ssario continuare a investire nello sviluppo di tali tecnologie abilitanti
  per la transizione energetica\, che rappresentano anche un’opportunità pe
 r il rilancio della competitività industriale e dell’occupazione per il Pa
 ese.   A questi temi sarà dedicato il nuovo webinar organizzato da Elettri
 cità Futura e CESI\, un momento di confronto\, con le aziende leader del s
 ettore elettrico italiano e internazionale e le istituzioni\, sulle attual
 i tecnologie\, sul panorama normativo e sulle frontiere più innovative leg
 ate alla transizione del sistema elettrico. Per partecipare è necessario r
 egistrarsi al seguente LINK. https://www.takethedate.it/archivio/Eventi/51
 435-accumuli-e-flessibilita-per-un-sistema-elettrico-piu-competitivo-e-rin
 novabile.html
DTSTART:20260415T090000Z
DTEND:20260415T103000Z
LOCATION:evento online  ()
SUMMARY:Accumuli e flessibilità per un sistema elettrico più competitivo e 
 rinnovabile
URL:https://www.takethedate.it/archivio/Eventi/51435-accumuli-e-flessibilit
 a-per-un-sistema-elettrico-piu-competitivo-e-rinnovabile.html
END:VEVENT
END:VCALENDAR
