BEGIN:VCALENDAR
VERSION:2.0
PRODID:-//https://www.takethedate.it///NONSGML kigkonsult.se iCalcreator 2.10.15//
METHOD:PUBLISH
BEGIN:VEVENT
UID:20260419T215758CEST-9053B8IL1Z@https://www.takethedate.it/
DTSTAMP:20260419T195758Z
DESCRIPTION:Nell'ambito della X edizione dei Dialoghi sull’Europa. Dialogo 
 con Pier Virgilio Dastoli\, Roberto Santaniello\, Nicoletta Pirozzi. Coord
 ina: Giampiero Gramaglia. https://www.takethedate.it/archivio/Eventi/51378
 -europa-che-fare.html
DTSTART:20260324T090000Z
DTEND:20260324T120000Z
LOCATION:Roma (Roma)
SUMMARY:Europa: che fare?
URL:https://www.takethedate.it/archivio/Eventi/51378-europa-che-fare.html
END:VEVENT
END:VCALENDAR
