BEGIN:VCALENDAR
VERSION:2.0
PRODID:-//https://www.takethedate.it///NONSGML kigkonsult.se iCalcreator 2.10.15//
METHOD:PUBLISH
BEGIN:VEVENT
UID:20260419T215718CEST-2215UIn3Co@https://www.takethedate.it/
DTSTAMP:20260419T195718Z
DESCRIPTION:Presiede Stefano Ceccanti (Sapienza Università di Roma). Relazi
 ona Nicola Lupo (Luiss Guido Carli). Intervengono: Emanuele Gabriele (Sapi
 enza Università di Roma)\, Giuliaserena Stegher (Università degli Studi di
  Urbino). https://www.takethedate.it/archivio/Eventi/51377-i-rapporti-tra-
 italia-e-unione-europea-durante-la-commissione-von-der-layen.html
DTSTART:20260324T073000Z
DTEND:20260324T103000Z
LOCATION:Roma (Roma)
SUMMARY:I rapporti tra Italia e Unione Europea durante la commissione Von D
 er Layen
URL:https://www.takethedate.it/archivio/Eventi/51377-i-rapporti-tra-italia-
 e-unione-europea-durante-la-commissione-von-der-layen.html
END:VEVENT
END:VCALENDAR
