BEGIN:VCALENDAR
VERSION:2.0
PRODID:-//https://www.takethedate.it///NONSGML kigkonsult.se iCalcreator 2.10.15//
METHOD:PUBLISH
BEGIN:VEVENT
UID:20260423T115005CEST-9103VUu06n@https://www.takethedate.it/
DTSTAMP:20260423T095005Z
DESCRIPTION:Alle ore 10\, presso la Sala della Regina di Montecitorio si sv
 olge il convegno 'Il progetto di nuovo codice delle costruzioni'. Saluti d
 ella vicepresidente della Camera\, Anna Ascani\, della presidente della Co
 mmissione di inchiesta sulle condizioni di lavoro\, Chiara Gribaudo. La se
 conda parte dell'evento\, dal titolo ' La riforma delle professioni e il r
 uolo degli ordini professionali'\, ha inizio a partire dalle ore 15.Progra
 mma  https://www.takethedate.it/archivio/Eventi/51241-il-progetto-di-nuovo
 -codice-delle-costruzioni.html
DTSTART:20260318T090000Z
DTEND:20260318T120000Z
LOCATION:Roma (Roma)
SUMMARY:Il progetto di nuovo codice delle costruzioni
URL:https://www.takethedate.it/archivio/Eventi/51241-il-progetto-di-nuovo-c
 odice-delle-costruzioni.html
END:VEVENT
END:VCALENDAR
