BEGIN:VCALENDAR
VERSION:2.0
PRODID:-//https://www.takethedate.it///NONSGML kigkonsult.se iCalcreator 2.10.15//
METHOD:PUBLISH
BEGIN:VEVENT
UID:20260419T215758CEST-9005tOIzMT@https://www.takethedate.it/
DTSTAMP:20260419T195758Z
DESCRIPTION:Consiglio Europeo del 19 e 20 marzo 2026 a Bruxelles\, partecip
 a il Presidente Giorgia Meloni https://www.takethedate.it/archivio/Eventi/
 51169-consiglio-europeo-19-20-marzo-2026.html
DTSTART;VALUE=DATE:20260319
LOCATION:Bruxelles (Bruxelles)
SUMMARY:Consiglio Europeo 19-20 marzo 2026
URL:https://www.takethedate.it/archivio/Eventi/51169-consiglio-europeo-19-2
 0-marzo-2026.html
END:VEVENT
END:VCALENDAR
