BEGIN:VCALENDAR
VERSION:2.0
PRODID:-//https://www.takethedate.it///NONSGML kigkonsult.se iCalcreator 2.10.15//
METHOD:PUBLISH
BEGIN:VEVENT
UID:20260419T215914CEST-4776L4nCd5@https://www.takethedate.it/
DTSTAMP:20260419T195914Z
DESCRIPTION:Dialoghi sull’Europa è un’iniziativa del Dipartimento di Scienz
 e Politiche della Sapienza Università di Roma\, nata nel 2017 in occasione
  del 60° anniversario della firma dei Trattati di Roma (25 marzo 1957).\nÈ
  un’occasione attraverso la quale ripercorrere le tappe del processo di in
 tegrazione e avviare una riflessione sul futuro dell’Europa.\nNella settim
 ana dal 23 al 29 marzo il Dipartimento ospiterà incontri\, dibattiti\, pre
 sentazioni di libri che vedranno coinvolti i docenti e gli studenti di tut
 ti i corsi di laurea\, con il contributo di ospiti esterni insieme ai qual
 i affrontare il tema dell'Europa da diverse prospettive disciplinari.\nLe 
 sfide che l’Europa ha davanti\, nel processo di ridefinizione degli scenar
 i internazionali\, investono le ragioni stesse dello stare insieme e il su
 o assetto istituzionale.\nDialoghi sull’Europa attraverso un percorso idea
 le dalla fondazione alla fase attuale\, mira a coinvolgere l’Università ne
 l dibattito sull’Unione europea\, ma soprattutto intende offrire un’occasi
 one per riprendere le fila del progetto europeo presso le giovani generazi
 oni.\nAlcuni incontri potrebbero svolgersi anche on line (su Zoom o Meet)\
 , per informazioni sulle modalità di accesso contattare i coordinatori dei
  singoli appuntamenti. https://www.takethedate.it/archivio/Eventi/50886-di
 aloghi-sulleuropa-dipartimento-di-scienze-politiche.html
DTSTART:20260323T110000Z
DTEND:20260328T120000Z
LOCATION:Roma (Roma)
SUMMARY:Dialoghi sull'europa | dipartimento di scienze politiche
URL:https://www.takethedate.it/archivio/Eventi/50886-dialoghi-sulleuropa-di
 partimento-di-scienze-politiche.html
END:VEVENT
END:VCALENDAR
