BEGIN:VCALENDAR
VERSION:2.0
PRODID:-//https://www.takethedate.it///NONSGML kigkonsult.se iCalcreator 2.10.15//
METHOD:PUBLISH
BEGIN:VEVENT
UID:20260421T185351CEST-2460NK0tmm@https://www.takethedate.it/
DTSTAMP:20260421T165351Z
DESCRIPTION:La CNA di Roma organizza un incontro di approfondimento dedicat
 o alla Direttiva europea Case Green\, pensato per supportare le imprese ne
 lla lettura dei nuovi obblighi normativi e\, soprattutto\, delle opportuni
 tà di sviluppo e posizionamento competitivo che ne derivano.\nLa Direttiva
  rappresenta una leva strategica per l’apertura di nuovi mercati\, l’innov
 azione dei processi e il rafforzamento delle filiere legate all’efficienza
  energetica\, coinvolgendo in modo diretto i settori impiantistico\, edili
 zio e della produzione.\nL'incontro avrà luogo presso la Sala Convegni CNA
  Roma\, Via Cristoforo Colombo\, 283 A - Piano 6.\nPROGRAMMA Ore 17:30 sal
 uti iniziali Ilario Melis\, Responsabile CNA Unione Installazione Impianti
  Roma Massimo Raco\, Presidente CNA Unione Installazione Impianti Roma Ore
  17:45 intervento di Mauro Ionata\, Systech Italia Srl che approfondirà i 
 temi: Quadro normativo\, Obiettivi e timeline al 2050\, Costi della misura
 \, Incentivi e misure di sostegno.\nOre 19:00 conclusioni Andrea Falamesca
 \, Presidente CNA Unione Costruzioni Roma. https://www.takethedate.it/arch
 ivio/Eventi/50379-direttiva-europea-case-green-obblighi-normativi-e-nuove-
 opportunita-di-mercato-per-le-imprese.html
DTSTART:20260305T163000Z
DTEND:20260305T180000Z
LOCATION:Roma (Roma)
SUMMARY:Direttiva europea case green: obblighi normativi e nuove opportunit
 à di mercato per le imprese
URL:https://www.takethedate.it/archivio/Eventi/50379-direttiva-europea-case
 -green-obblighi-normativi-e-nuove-opportunita-di-mercato-per-le-imprese.ht
 ml
END:VEVENT
END:VCALENDAR
