BEGIN:VCALENDAR
VERSION:2.0
PRODID:-//https://www.takethedate.it///NONSGML kigkonsult.se iCalcreator 2.10.15//
METHOD:PUBLISH
BEGIN:VEVENT
UID:20260419T231423CEST-6045PUon7c@https://www.takethedate.it/
DTSTAMP:20260419T211423Z
DESCRIPTION:Roma\, 19 febbraio 2026 dalle ore 14:30 alle 16:00 https://www.
 takethedate.it/archivio/Eventi/50358-a-sustainability-and-cultural-perspec
 tive-on-distinctive-signs.html
DTSTART:20260219T143000Z
DTEND:20260219T160000Z
LOCATION:Roma (Roma)
SUMMARY:A Sustainability and Cultural Perspective on Distinctive Signs
URL:https://www.takethedate.it/archivio/Eventi/50358-a-sustainability-and-c
 ultural-perspective-on-distinctive-signs.html
END:VEVENT
END:VCALENDAR
