BEGIN:VCALENDAR
VERSION:2.0
PRODID:-//https://www.takethedate.it///NONSGML kigkonsult.se iCalcreator 2.10.15//
METHOD:PUBLISH
BEGIN:VEVENT
UID:20260419T231906CEST-33693CjoHH@https://www.takethedate.it/
DTSTAMP:20260419T211906Z
DESCRIPTION:A partire dal 13 febbraio 2026\, i soggetti iscritti al RENTRI 
 avranno l’obbligo di gestire il Formulario di Identificazione dei Rifiuti 
 (FIR) in formato digitale\, segnando un passo decisivo nel processo di dig
 italizzazione della tracciabilità dei rifiuti.\nIn vista di questa importa
 nte scadenza\, Confindustria organizza un webinar – riservato alle sole As
 sociazioni del Sistema – con l’obiettivo di offrire chiarimenti operativi 
 e un approfondimento tecnico sugli adempimenti connessi al nuovo sistema d
 igitale.\nDurante l’incontro\, gli esperti dell’Albo Nazionale Gestori Amb
 ientali e di Ecocerved illustreranno gli adempimenti tecnici e formali pre
 visti\, rispondendo alle domande raccolte dalle Associazioni del Sistema. 
 https://www.takethedate.it/archivio/Eventi/50184-rentri---fir-digitale-com
 e-prepararsi-ai-nuovi-obblighi.html
DTSTART:20260211T090000Z
DTEND:20260211T120000Z
LOCATION:evento online  ()
SUMMARY:RENTRI – FIR Digitale: Come prepararsi ai nuovi obblighi
URL:https://www.takethedate.it/archivio/Eventi/50184-rentri---fir-digitale-
 come-prepararsi-ai-nuovi-obblighi.html
END:VEVENT
END:VCALENDAR
