BEGIN:VCALENDAR
VERSION:2.0
PRODID:-//https://www.takethedate.it///NONSGML kigkonsult.se iCalcreator 2.10.15//
METHOD:PUBLISH
BEGIN:VEVENT
UID:20260419T231320CEST-5623RiP0Cv@https://www.takethedate.it/
DTSTAMP:20260419T211320Z
DESCRIPTION: https://www.takethedate.it/archivio/Eventi/50013-riflessi-di-m
 oda-film-e-swap.html
DTSTART:20260128T170000Z
DTEND:20260128T183000Z
LOCATION:evento online  ()
SUMMARY:RIFLESSI DI MODA: FILM E SWAP
URL:https://www.takethedate.it/archivio/Eventi/50013-riflessi-di-moda-film-
 e-swap.html
END:VEVENT
END:VCALENDAR
