BEGIN:VCALENDAR
VERSION:2.0
PRODID:-//https://www.takethedate.it///NONSGML kigkonsult.se iCalcreator 2.10.15//
METHOD:PUBLISH
BEGIN:VEVENT
UID:20260419T231454CEST-2966CawB3A@https://www.takethedate.it/
DTSTAMP:20260419T211454Z
DESCRIPTION:La Facoltà di Ingegneria civile e industriale della Sapienza Un
 iversità di Roma ospiterà il 13 e 14 gennaio 2026\, nella prestigiosa Sala
  degli Affreschi\, il workshop “Gestione\,  trattamento e confinamento dei
  rifiuti radioattivi”\, dedicato alle problematiche legate ad un corretto 
 smaltimento dei rifiuti a bassa e media attività. \nDurante il workshop\, 
 verranno presentati i risultati del progetto BRIC ID 47/2022 “Procedure in
 novative per la qualifica di attrezzature di lavoro utilizzate per le atti
 vità di decommissioning - Studio di modelli matematici e di procedure di v
 alidazione”\, promosso da Inail nell’ambito del Bando ricerche BRIC 2022\,
  che ha approfondito lo studio di materiali innovativi con lo sviluppo di 
 nuove formulazioni utilizzati nell'ambito del Deposito Nazionale\, in via 
 di realizzazione.\nL’iniziativa rappresenta\, inoltre\, un’importante occa
 sione di confronto sul tema e un’opportunità per un dibattito aperto sulle
  esperienze maturate in Italia e all’estero dagli esperti del settore.  ht
 tps://www.takethedate.it/archivio/Eventi/49687-gestione-trattamento-e-conf
 inamento-dei-rifiuti-radioattivi.html
DTSTART:20260113T073000Z
DTEND:20260114T173000Z
LOCATION: ()
SUMMARY:Gestione\, trattamento e confinamento dei rifiuti radioattivi
URL:https://www.takethedate.it/archivio/Eventi/49687-gestione-trattamento-e
 -confinamento-dei-rifiuti-radioattivi.html
END:VEVENT
END:VCALENDAR
