BEGIN:VCALENDAR
VERSION:2.0
PRODID:-//https://www.takethedate.it///NONSGML kigkonsult.se iCalcreator 2.10.15//
METHOD:PUBLISH
BEGIN:VEVENT
UID:20260419T231454CEST-2776Jp9o3V@https://www.takethedate.it/
DTSTAMP:20260419T211454Z
DESCRIPTION:Milano\, 11 dicembre dalle ore 10:00 alle ore 16:00\nProgramma
 \nOre 10.00 Saluti di apertura Gilberto Pichetto Fratin – Ministro dell’Am
 biente e della Sicurezza energetica (intervento video)\nOre 10.10 Presenta
 zione del rapporto “Il riciclo in Italia 2025” Edo Ronchi – Presidente Fon
 dazione per lo sviluppo sostenibile\nOre 11.00 Il ruolo strategico del ric
 iclo in Italia\, la crisi della plastica e i ritardi nei rifiuti elettrici
  ed elettronici Coordina: Edoardo Vigna – Responsabile Pianeta 2030 Corrie
 re della Sera Conversazione con: Laura D’Aprile – Capo Dipartimento per lo
  sviluppo sostenibile\, Ministero dell’Ambiente e della Sicurezza energeti
 ca Piergiorgio Lanza – Presidente CONAI Paolo Arcelli – Direttore Business
  Unit Division Plastics Comieco Roberto Sancinelli – Presidente Montello A
 ndrea Fluttero – Presidente Unicircular E Raimondo Orsini – Direttore Fond
 azione per lo sviluppo sostenibile Federica Crasnich – Amministratore Dele
 gato A2A Ambiente\nOre 12.00 Prospettive dell’industria italiana del ricic
 lo Coordina: Edoardo Vigna – Responsabile Pianeta 2030 Corriere della Sera
  E Raimondo Orsini – Direttore Fondazione per lo sviluppo sostenibile Conv
 ersazione con: Andrea D’Amato – Ministero delle Imprese e del Made in Ital
 y Giovanni Rosti – Amministratore Delegato Valagro Antonio Montalto – Pres
 idente Erion Compliance Organization Federica Gambacorta – Geofor\nOre 13.
 00 Il Circular Economy Act: rischi e opportunità per l’industria del ricic
 lo Coordina: Nicola Saldutti – Corriere della Sera Conversazione con: E Ra
 imondo Orsini – Direttore Fondazione per lo sviluppo sostenibile\nVideo Ta
 lk Silvia Ferranti – Team Leader Direzione Generale Ambiente\, Commissione
  Europea Daniel Montalvo – Responsabile Unità Economia circolare Agenzia E
 uropea Ambiente Andrea Lanz – Coordinatore del gruppo informale degli Stat
 i Membri sulle politiche di prevenzione dei rifiuti e dell’economia circol
 are Luca Protetti – Ministero dell’Ambiente e della Sicurezza Energetica\n
 Ore 14.30 L’impegno delle imprese per un crescente utilizzo dei materiali 
 riciclati Coordina: Simone Targatelli Ferri – Sustainability Director e Ed
 itorial Coordinator\, FIPP Filippo Montabbati – Vice President Public Affa
 irs Central Europe\, TOMRA Simona Giorgini – Head of Sustainability and En
 ergy Transition Luxottica Alexis Cantore – Presidente Consorzio Italiano C
 ompostatori Alessandra Astolfi – Global Exhibition Director Green & Techno
 logy Division\, Italian Exhibition Group\nOre 15.10 Investiamo sul futuro 
 del riciclo: Premio Startup Economia Circolare Premiano: Simona Fontana – 
 Direttrice Generale CONAI E Anna Parasacchi – Responsabile Premio per lo s
 viluppo sostenibile\nStartup vincitrice edizione 2024 Interviene: Giulia Z
 antoni\, CEO\nPremiazione e intervento delle 3 startup vincitrici 2025 Pul
 vera Ecoe 4eEarth Andrea Nevi – Business Development\, Tomaaso Biotech\nOr
 e 15.40 Conclusioni e indirizzi di policy Edo Ronchi – Presidente Fondazio
 ne per lo sviluppo sostenibile\n  https://www.takethedate.it/archivio/Even
 ti/49347-conferenza-nazionale-industria-del-riciclo-2025-tra-crisi-e-oppor
 tunita.html
DTSTART:20251211T090000Z
DTEND:20251211T150000Z
LOCATION: ()
SUMMARY:Conferenza Nazionale Industria del Riciclo 2025 Tra crisi e opportu
 nità
URL:https://www.takethedate.it/archivio/Eventi/49347-conferenza-nazionale-i
 ndustria-del-riciclo-2025-tra-crisi-e-opportunita.html
END:VEVENT
END:VCALENDAR
