BEGIN:VCALENDAR
VERSION:2.0
PRODID:-//https://www.takethedate.it///NONSGML kigkonsult.se iCalcreator 2.10.15//
METHOD:PUBLISH
BEGIN:VEVENT
UID:20260419T231213CEST-7039c0IRpH@https://www.takethedate.it/
DTSTAMP:20260419T211213Z
DESCRIPTION:L'11 dicembre nella Sala Polifunzionale della Presidenza del Co
 nsiglio dei Ministri a Roma verrà presentata la ventisettesima edizione de
 l Rapporto Rifiuti Urbani\, con i dati aggiornati al 2024 sulla produzione
 \, raccolta differenziata\, gestione e flussi di import/export dei rifiuti
  urbani e degli imballaggi\, a livello nazionale\, regionale e provinciale
 .\nIl documento\, elaborato dal Centro Nazionale dei Rifiuti e dell’Econom
 ia Circolare di ISPRA con il contributo delle Agenzie ambientali territori
 ali\, offre un quadro conoscitivo completo e oggettivo a supporto del legi
 slatore per orientare politiche e interventi\, monitorarne l’efficacia e i
 ntrodurre eventuali misure correttive.\nIl Rapporto include anche il monit
 oraggio dei costi dei servizi di igiene urbana\, l’applicazione del sistem
 a tariffario e una ricognizione dello stato di attuazione della pianificaz
 ione territoriale aggiornata al 2024.\nProgramma provvisorio https://www.t
 akethedate.it/archivio/Eventi/49242-presentazione-del-rapporto-rifiuti-urb
 ani-edizione-2025.html
DTSTART:20251211T083000Z
DTEND:20251211T113000Z
LOCATION:evento online  ()
SUMMARY:Presentazione del Rapporto rifiuti urbani Edizione 2025
URL:https://www.takethedate.it/archivio/Eventi/49242-presentazione-del-rapp
 orto-rifiuti-urbani-edizione-2025.html
END:VEVENT
END:VCALENDAR
